BEGIN:VCALENDAR
VERSION:2.0
PRODID:spatie/icalendar-generator
DESCRIPTION:Events from Republican Women of Anne Arundel County
X-WR-CALDESC:Events from Republican Women of Anne Arundel County
REFRESH-INTERVAL;VALUE=DURATION:PT1440M
X-PUBLISHED-TTL:PT1440M
BEGIN:VTIMEZONE
TZID:Etc/GMT+0
BEGIN:STANDARD
DTSTART:20221212T183000Z
TZOFFSETFROM:+0000
TZOFFSETTO:+0000
END:STANDARD
END:VTIMEZONE
BEGIN:VTIMEZONE
TZID:UTC
BEGIN:STANDARD
DTSTART:20250728T111417Z
TZOFFSETFROM:+0000
TZOFFSETTO:+0000
END:STANDARD
END:VTIMEZONE
BEGIN:VEVENT
UID:16-14
DTSTAMP:20260424T111417Z
SUMMARY:Councilman Nathan Volke's 5th Annual Crab Feast
LOCATION:Kurtz\\'s Beach 2070 Kurtz Avenue  Pasadena MD 21146
ORGANIZER;CN=admin:MAILTO:rwaaccom@box5158.bluehost.com
DTSTART;TZID=Etc/GMT+0:20230908T183000
DTEND;TZID=Etc/GMT+0:20230908T213000
X-ALT-DESC;FMTTYPE=TEXT/HTML:
CATEGORIES:Fundraiser
URL;VALUE=URI:https://rwaac.net/mc-events/councilman-nathan-volkes-5th-annu
 al-crab-feast/
METHOD:PUBLISH
END:VEVENT
END:VCALENDAR