BEGIN:VCALENDAR
VERSION:2.0
PRODID:spatie/icalendar-generator
DESCRIPTION:Events from Republican Women of Anne Arundel County
X-WR-CALDESC:Events from Republican Women of Anne Arundel County
REFRESH-INTERVAL;VALUE=DURATION:PT1440M
X-PUBLISHED-TTL:PT1440M
BEGIN:VTIMEZONE
TZID:Etc/GMT+0
BEGIN:STANDARD
DTSTART:20221217T190000Z
TZOFFSETFROM:+0000
TZOFFSETTO:+0000
END:STANDARD
END:VTIMEZONE
BEGIN:VTIMEZONE
TZID:UTC
BEGIN:STANDARD
DTSTART:20250728T105858Z
TZOFFSETFROM:+0000
TZOFFSETTO:+0000
END:STANDARD
END:VTIMEZONE
BEGIN:VEVENT
UID:18-16
DTSTAMP:20260424T105858Z
SUMMARY:Monthly Meeting
LOCATION:Annapolis Elks Club 2 Pythian Dr  Edgewater MD 21037
ORGANIZER;CN=admin:MAILTO:rwaaccom@box5158.bluehost.com
DTSTART;TZID=Etc/GMT+0:20230913T190000
DTEND;TZID=Etc/GMT+0:20230913T210000
X-ALT-DESC;FMTTYPE=TEXT/HTML:Speaker - John Rigney - F.A.S.T.E.R. AND Louis
 e Baker - \"Keep Nine\"
CATEGORIES:General
URL;VALUE=URI:https://rwaac.net/mc-events/monthly-meeting/
METHOD:PUBLISH
END:VEVENT
END:VCALENDAR