BEGIN:VCALENDAR
VERSION:2.0
PRODID:spatie/icalendar-generator
DESCRIPTION:Events from Republican Women of Anne Arundel County
X-WR-CALDESC:Events from Republican Women of Anne Arundel County
REFRESH-INTERVAL;VALUE=DURATION:PT1440M
X-PUBLISHED-TTL:PT1440M
BEGIN:VTIMEZONE
TZID:Etc/GMT+0
BEGIN:STANDARD
DTSTART:20230118T100000Z
TZOFFSETFROM:+0000
TZOFFSETTO:+0000
END:STANDARD
END:VTIMEZONE
BEGIN:VTIMEZONE
TZID:UTC
BEGIN:STANDARD
DTSTART:20250728T100044Z
TZOFFSETFROM:+0000
TZOFFSETTO:+0000
END:STANDARD
END:VTIMEZONE
BEGIN:VEVENT
UID:25-23
DTSTAMP:20260424T100044Z
SUMMARY:MFRW Fall Convention
LOCATION:WISP Resort 296 Marsh Hill Rd  McHenry MD
ORGANIZER;CN=admin:MAILTO:rwaaccom@box5158.bluehost.com
DTSTART;TZID=Etc/GMT+0:20231015T100000
DTEND;TZID=Etc/GMT+0:20231015T160000
X-ALT-DESC;FMTTYPE=TEXT/HTML:
CATEGORIES:General
URL;VALUE=URI:https://rwaac.net/mc-events/mfrw-fall-convention/
METHOD:PUBLISH
END:VEVENT
END:VCALENDAR