BEGIN:VCALENDAR
VERSION:2.0
PRODID:spatie/icalendar-generator
DESCRIPTION:Events from Republican Women of Anne Arundel County
X-WR-CALDESC:Events from Republican Women of Anne Arundel County
REFRESH-INTERVAL;VALUE=DURATION:PT1440M
X-PUBLISHED-TTL:PT1440M
BEGIN:VTIMEZONE
TZID:Etc/GMT+0
BEGIN:STANDARD
DTSTART:20220625T180000Z
TZOFFSETFROM:+0000
TZOFFSETTO:+0000
END:STANDARD
END:VTIMEZONE
BEGIN:VTIMEZONE
TZID:UTC
BEGIN:STANDARD
DTSTART:20250728T165501Z
TZOFFSETFROM:+0000
TZOFFSETTO:+0000
END:STANDARD
END:VTIMEZONE
BEGIN:VEVENT
UID:4-4
DTSTAMP:20260424T165501Z
SUMMARY:Lincoln Reagan Dinner
LOCATION:Crowne Plaza Hotel 173 Jennifer Road  Annapolis MD 21401
ORGANIZER;CN=admin:MAILTO:rwaaccom@box5158.bluehost.com
DTSTART;TZID=Etc/GMT+0:20230322T180000
DTEND;TZID=Etc/GMT+0:20230322T213000
X-ALT-DESC;FMTTYPE=TEXT/HTML:
CATEGORIES:Fundraiser
URL;VALUE=URI:https://rwaac.net/mc-events/lincoln-reagan-dinner/
METHOD:PUBLISH
END:VEVENT
END:VCALENDAR