BEGIN:VCALENDAR
VERSION:2.0
PRODID:spatie/icalendar-generator
DESCRIPTION:Events from Republican Women of Anne Arundel County
X-WR-CALDESC:Events from Republican Women of Anne Arundel County
REFRESH-INTERVAL;VALUE=DURATION:PT1440M
X-PUBLISHED-TTL:PT1440M
BEGIN:VTIMEZONE
TZID:Etc/GMT+0
BEGIN:STANDARD
DTSTART:20250713T173000Z
TZOFFSETFROM:+0000
TZOFFSETTO:+0000
END:STANDARD
END:VTIMEZONE
BEGIN:VTIMEZONE
TZID:UTC
BEGIN:STANDARD
DTSTART:20250727T172505Z
TZOFFSETFROM:+0000
TZOFFSETTO:+0000
END:STANDARD
END:VTIMEZONE
BEGIN:VEVENT
UID:67-64
DTSTAMP:20260423T172505Z
SUMMARY:JIM FREDERICKS FUNDRAISER
LOCATION:Sundown Manor 4116 Shoreham Beach Road  Mayo MD 21106
ORGANIZER;CN=admin:MAILTO:rwaaccom@box5158.bluehost.com
DTSTART;TZID=Etc/GMT+0:20260409T173000
DTEND;TZID=Etc/GMT+0:20260409T193000
X-ALT-DESC;FMTTYPE=TEXT/HTML:
CATEGORIES:Fundraiser
URL;VALUE=URI:https://rwaac.net/mc-events/jim-fredericks-fundraiser/
METHOD:PUBLISH
END:VEVENT
END:VCALENDAR