BEGIN:VCALENDAR
VERSION:2.0
PRODID:spatie/icalendar-generator
DESCRIPTION:Events from Republican Women of Anne Arundel County
X-WR-CALDESC:Events from Republican Women of Anne Arundel County
REFRESH-INTERVAL;VALUE=DURATION:PT1440M
X-PUBLISHED-TTL:PT1440M
BEGIN:VTIMEZONE
TZID:Etc/GMT+0
BEGIN:STANDARD
DTSTART:20220807T173000Z
TZOFFSETFROM:+0000
TZOFFSETTO:+0000
END:STANDARD
END:VTIMEZONE
BEGIN:VTIMEZONE
TZID:UTC
BEGIN:STANDARD
DTSTART:20250728T180955Z
TZOFFSETFROM:+0000
TZOFFSETTO:+0000
END:STANDARD
END:VTIMEZONE
BEGIN:VEVENT
UID:11-9
DTSTAMP:20260424T180955Z
SUMMARY:ARCC Happy Hour Meet &amp;amp\; Greet
LOCATION:Sabor Latino Restaurante 509 South Cherry Grove Ave  Annapolis MD 
 21401
ORGANIZER;CN=admin:MAILTO:rwaaccom@box5158.bluehost.com
DTSTART;TZID=Etc/GMT+0:20230504T173000
DTEND;TZID=Etc/GMT+0:20230504T193000
X-ALT-DESC;FMTTYPE=TEXT/HTML:
CATEGORIES:Meet \'n\' Greet
URL;VALUE=URI:https://rwaac.net/mc-events/arcc-happy-hour-meet-greet/
METHOD:PUBLISH
END:VEVENT
END:VCALENDAR