BEGIN:VCALENDAR
VERSION:2.0
PRODID:spatie/icalendar-generator
DESCRIPTION:Events from Republican Women of Anne Arundel County
X-WR-CALDESC:Events from Republican Women of Anne Arundel County
REFRESH-INTERVAL;VALUE=DURATION:PT1440M
X-PUBLISHED-TTL:PT1440M
BEGIN:VTIMEZONE
TZID:Etc/GMT+0
BEGIN:STANDARD
DTSTART:20220920T183000Z
TZOFFSETFROM:+0000
TZOFFSETTO:+0000
END:STANDARD
END:VTIMEZONE
BEGIN:VTIMEZONE
TZID:UTC
BEGIN:STANDARD
DTSTART:20250728T161743Z
TZOFFSETFROM:+0000
TZOFFSETTO:+0000
END:STANDARD
END:VTIMEZONE
BEGIN:VEVENT
UID:13-11
DTSTAMP:20260424T161743Z
SUMMARY:Red\, White &amp;amp\; Blue Dinner
LOCATION:BWI Marriott 1743 West Nursery Road  Linthicum MD 21090
ORGANIZER;CN=admin:MAILTO:rwaaccom@box5158.bluehost.com
DTSTART;TZID=Etc/GMT+0:20230617T183000
DTEND;TZID=Etc/GMT+0:20230617T210000
X-ALT-DESC;FMTTYPE=TEXT/HTML:with guest speaker SD Governor\, Kristi Noem
CATEGORIES:Fundraiser
URL;VALUE=URI:https://rwaac.net/mc-events/red-white-blue-dinner/
METHOD:PUBLISH
END:VEVENT
END:VCALENDAR