BEGIN:VCALENDAR
VERSION:2.0
PRODID:spatie/icalendar-generator
DESCRIPTION:Events from Republican Women of Anne Arundel County
X-WR-CALDESC:Events from Republican Women of Anne Arundel County
REFRESH-INTERVAL;VALUE=DURATION:PT1440M
X-PUBLISHED-TTL:PT1440M
BEGIN:VTIMEZONE
TZID:Etc/GMT+0
BEGIN:STANDARD
DTSTART:20221130T140000Z
TZOFFSETFROM:+0000
TZOFFSETTO:+0000
END:STANDARD
END:VTIMEZONE
BEGIN:VTIMEZONE
TZID:UTC
BEGIN:STANDARD
DTSTART:20250728T140231Z
TZOFFSETFROM:+0000
TZOFFSETTO:+0000
END:STANDARD
END:VTIMEZONE
BEGIN:VEVENT
UID:17-15
DTSTAMP:20260424T140231Z
SUMMARY:Latoya Nkongolo Fundraiser
LOCATION:Ledo\\'s Pizza 552 Rirchie Hwy  Severna Park MD 21146
ORGANIZER;CN=admin:MAILTO:rwaaccom@box5158.bluehost.com
DTSTART;TZID=Etc/GMT+0:20230827T140000
DTEND;TZID=Etc/GMT+0:20230827T160000
X-ALT-DESC;FMTTYPE=TEXT/HTML:AA County D5 Candidate for School Board
CATEGORIES:Fundraiser
URL;VALUE=URI:https://rwaac.net/mc-events/latoya-nkongolo-fundraiser/
METHOD:PUBLISH
END:VEVENT
END:VCALENDAR