BEGIN:VCALENDAR
VERSION:2.0
PRODID:spatie/icalendar-generator
DESCRIPTION:Events from Republican Women of Anne Arundel County
X-WR-CALDESC:Events from Republican Women of Anne Arundel County
REFRESH-INTERVAL;VALUE=DURATION:PT1440M
X-PUBLISHED-TTL:PT1440M
BEGIN:VTIMEZONE
TZID:Etc/GMT+0
BEGIN:STANDARD
DTSTART:20220610T093000Z
TZOFFSETFROM:+0000
TZOFFSETTO:+0000
END:STANDARD
END:VTIMEZONE
BEGIN:VTIMEZONE
TZID:UTC
BEGIN:STANDARD
DTSTART:20250728T203133Z
TZOFFSETFROM:+0000
TZOFFSETTO:+0000
END:STANDARD
END:VTIMEZONE
BEGIN:VEVENT
UID:2-2
DTSTAMP:20260424T203133Z
SUMMARY:MFRW Red Scarf Day
LOCATION:Calvert House 58 State Street  Annapolis MD 21401
ORGANIZER;CN=admin:MAILTO:rwaaccom@box5158.bluehost.com
DTSTART;TZID=Etc/GMT+0:20230307T093000
DTEND;TZID=Etc/GMT+0:20230307T150000
X-ALT-DESC;FMTTYPE=TEXT/HTML:
CATEGORIES:Fundraiser,  Meet \'n\' Greet
URL;VALUE=URI:https://rwaac.net/mc-events/mfrw-red-scarf-day/
METHOD:PUBLISH
END:VEVENT
END:VCALENDAR