BEGIN:VCALENDAR
VERSION:2.0
PRODID:spatie/icalendar-generator
DESCRIPTION:Events from Republican Women of Anne Arundel County
X-WR-CALDESC:Events from Republican Women of Anne Arundel County
REFRESH-INTERVAL;VALUE=DURATION:PT1440M
X-PUBLISHED-TTL:PT1440M
BEGIN:VTIMEZONE
TZID:Etc/GMT+0
BEGIN:STANDARD
DTSTART:20230212T180000Z
TZOFFSETFROM:+0000
TZOFFSETTO:+0000
END:STANDARD
END:VTIMEZONE
BEGIN:VTIMEZONE
TZID:UTC
BEGIN:STANDARD
DTSTART:20250728T094509Z
TZOFFSETFROM:+0000
TZOFFSETTO:+0000
END:STANDARD
END:VTIMEZONE
BEGIN:VEVENT
UID:28-26
DTSTAMP:20260424T094509Z
SUMMARY:Rachel Munoz Birthday Party
LOCATION:Chartwell Golf &amp;amp\; Country Club 1 Chartwell Drive  Severna Park
  MD 21146
ORGANIZER;CN=admin:MAILTO:rwaaccom@box5158.bluehost.com
DTSTART;TZID=Etc/GMT+0:20231109T180000
DTEND;TZID=Etc/GMT+0:20231109T200000
X-ALT-DESC;FMTTYPE=TEXT/HTML:Save the Date
CATEGORIES:Fundraiser
URL;VALUE=URI:https://rwaac.net/mc-events/rachel-munoz-birthday-party/
METHOD:PUBLISH
END:VEVENT
END:VCALENDAR