BEGIN:VCALENDAR
VERSION:2.0
PRODID:spatie/icalendar-generator
DESCRIPTION:Events from Republican Women of Anne Arundel County
X-WR-CALDESC:Events from Republican Women of Anne Arundel County
REFRESH-INTERVAL;VALUE=DURATION:PT1440M
X-PUBLISHED-TTL:PT1440M
BEGIN:VTIMEZONE
TZID:Etc/GMT+0
BEGIN:STANDARD
DTSTART:20230309T190000Z
TZOFFSETFROM:+0000
TZOFFSETTO:+0000
END:STANDARD
END:VTIMEZONE
BEGIN:VTIMEZONE
TZID:UTC
BEGIN:STANDARD
DTSTART:20250728T070152Z
TZOFFSETFROM:+0000
TZOFFSETTO:+0000
END:STANDARD
END:VTIMEZONE
BEGIN:VEVENT
UID:32-30
DTSTAMP:20260424T070152Z
SUMMARY:AA County Council
LOCATION:Arundel Center 44 Calvert Street  Annapolis MD 21401
ORGANIZER;CN=admin:MAILTO:rwaaccom@box5158.bluehost.com
DTSTART;TZID=Etc/GMT+0:20231204T190000
DTEND;TZID=Etc/GMT+0:20231204T233000
X-ALT-DESC;FMTTYPE=TEXT/HTML:
CATEGORIES:General
URL;VALUE=URI:https://rwaac.net/mc-events/aa-county-council-2/
METHOD:PUBLISH
END:VEVENT
END:VCALENDAR