BEGIN:VCALENDAR
VERSION:2.0
PRODID:spatie/icalendar-generator
DESCRIPTION:Events from Republican Women of Anne Arundel County
X-WR-CALDESC:Events from Republican Women of Anne Arundel County
REFRESH-INTERVAL;VALUE=DURATION:PT1440M
X-PUBLISHED-TTL:PT1440M
BEGIN:VTIMEZONE
TZID:Etc/GMT+0
BEGIN:STANDARD
DTSTART:20230218T183000Z
TZOFFSETFROM:+0000
TZOFFSETTO:+0000
END:STANDARD
END:VTIMEZONE
BEGIN:VTIMEZONE
TZID:UTC
BEGIN:STANDARD
DTSTART:20250728T081639Z
TZOFFSETFROM:+0000
TZOFFSETTO:+0000
END:STANDARD
END:VTIMEZONE
BEGIN:VEVENT
UID:37-35
DTSTAMP:20260424T081639Z
SUMMARY:AA County School Board
LOCATION:Board Room 2644 Riva Road  Annapois MD 21401
ORGANIZER;CN=admin:MAILTO:rwaaccom@box5158.bluehost.com
DTSTART;TZID=Etc/GMT+0:20231115T183000
DTEND;TZID=Etc/GMT+0:20231115T193000
X-ALT-DESC;FMTTYPE=TEXT/HTML:Public Session
CATEGORIES:General
URL;VALUE=URI:https://rwaac.net/mc-events/aa-county-school-board-4/
METHOD:PUBLISH
END:VEVENT
END:VCALENDAR