BEGIN:VCALENDAR
VERSION:2.0
PRODID:spatie/icalendar-generator
DESCRIPTION:Events from Republican Women of Anne Arundel County
X-WR-CALDESC:Events from Republican Women of Anne Arundel County
REFRESH-INTERVAL;VALUE=DURATION:PT1440M
X-PUBLISHED-TTL:PT1440M
BEGIN:VTIMEZONE
TZID:Etc/GMT+0
BEGIN:STANDARD
DTSTART:20230623T180000Z
TZOFFSETFROM:+0000
TZOFFSETTO:+0000
END:STANDARD
END:VTIMEZONE
BEGIN:VTIMEZONE
TZID:UTC
BEGIN:STANDARD
DTSTART:20250728T015651Z
TZOFFSETFROM:+0000
TZOFFSETTO:+0000
END:STANDARD
END:VTIMEZONE
BEGIN:VEVENT
UID:50-47
DTSTAMP:20260424T015651Z
SUMMARY:AAGOP Lincoln-Reagan Dinner
LOCATION:
ORGANIZER;CN=admin:MAILTO:rwaaccom@box5158.bluehost.com
DTSTART;TZID=Etc/GMT+0:20240319T180000
DTEND;TZID=Etc/GMT+0:20240319T210000
X-ALT-DESC;FMTTYPE=TEXT/HTML:
CATEGORIES:Fundraiser
URL;VALUE=URI:https://rwaac.net/mc-events/aagop-lincoln-reagan-dinner/
METHOD:PUBLISH
END:VEVENT
END:VCALENDAR