BEGIN:VCALENDAR
VERSION:2.0
PRODID:spatie/icalendar-generator
DESCRIPTION:Events from Republican Women of Anne Arundel County
X-WR-CALDESC:Events from Republican Women of Anne Arundel County
REFRESH-INTERVAL;VALUE=DURATION:PT1440M
X-PUBLISHED-TTL:PT1440M
BEGIN:VTIMEZONE
TZID:Etc/GMT+0
BEGIN:STANDARD
DTSTART:20250420T100000Z
TZOFFSETFROM:+0000
TZOFFSETTO:+0000
END:STANDARD
END:VTIMEZONE
BEGIN:VTIMEZONE
TZID:UTC
BEGIN:STANDARD
DTSTART:20250727T191207Z
TZOFFSETFROM:+0000
TZOFFSETTO:+0000
END:STANDARD
END:VTIMEZONE
BEGIN:VEVENT
UID:61-58
DTSTAMP:20260423T191207Z
SUMMARY:Day 2 Legislative Visits
LOCATION:
ORGANIZER;CN=admin:MAILTO:rwaaccom@box5158.bluehost.com
DTSTART;TZID=Etc/GMT+0:20260115T100000
DTEND;TZID=Etc/GMT+0:20260115T140000
X-ALT-DESC;FMTTYPE=TEXT/HTML:
CATEGORIES:General
URL;VALUE=URI:https://rwaac.net/mc-events/day-2-legislative-visits/
METHOD:PUBLISH
END:VEVENT
END:VCALENDAR