BEGIN:VCALENDAR
VERSION:2.0
PRODID:spatie/icalendar-generator
DESCRIPTION:Events from Republican Women of Anne Arundel County
X-WR-CALDESC:Events from Republican Women of Anne Arundel County
REFRESH-INTERVAL;VALUE=DURATION:PT1440M
X-PUBLISHED-TTL:PT1440M
BEGIN:VTIMEZONE
TZID:Etc/GMT+0
BEGIN:STANDARD
DTSTART:20250614T110000Z
TZOFFSETFROM:+0000
TZOFFSETTO:+0000
END:STANDARD
END:VTIMEZONE
BEGIN:VTIMEZONE
TZID:UTC
BEGIN:STANDARD
DTSTART:20250727T193301Z
TZOFFSETFROM:+0000
TZOFFSETTO:+0000
END:STANDARD
END:VTIMEZONE
BEGIN:VEVENT
UID:64-61
DTSTAMP:20260423T193301Z
SUMMARY:Monthly Meeting
LOCATION:West End Grill 2049 West Street  Annapolis MD 21401
ORGANIZER;CN=admin:MAILTO:rwaaccom@box5158.bluehost.com
DTSTART;TZID=Etc/GMT+0:20260311T110000
DTEND;TZID=Etc/GMT+0:20260311T130000
X-ALT-DESC;FMTTYPE=TEXT/HTML:
CATEGORIES:General
URL;VALUE=URI:https://rwaac.net/mc-events/monthly-meeting-6/
METHOD:PUBLISH
END:VEVENT
END:VCALENDAR