BEGIN:VCALENDAR
VERSION:2.0
PRODID:spatie/icalendar-generator
DESCRIPTION:Events from Republican Women of Anne Arundel County
X-WR-CALDESC:Events from Republican Women of Anne Arundel County
REFRESH-INTERVAL;VALUE=DURATION:PT1440M
X-PUBLISHED-TTL:PT1440M
BEGIN:VTIMEZONE
TZID:Etc/GMT+0
BEGIN:STANDARD
DTSTART:20250725T173000Z
TZOFFSETFROM:+0000
TZOFFSETTO:+0000
END:STANDARD
END:VTIMEZONE
BEGIN:VTIMEZONE
TZID:UTC
BEGIN:STANDARD
DTSTART:20250727T155941Z
TZOFFSETFROM:+0000
TZOFFSETTO:+0000
END:STANDARD
END:VTIMEZONE
BEGIN:VEVENT
UID:69-66
DTSTAMP:20260423T155941Z
SUMMARY:Dawn Pulliam Fundraiser
LOCATION:Homestead Gardens 743 Central Ave.\,  Davidsonville MD 21035
ORGANIZER;CN=admin:MAILTO:rwaaccom@box5158.bluehost.com
DTSTART;TZID=Etc/GMT+0:20260421T173000
DTEND;TZID=Etc/GMT+0:20260421T193000
X-ALT-DESC;FMTTYPE=TEXT/HTML:
CATEGORIES:Fundraiser
URL;VALUE=URI:https://rwaac.net/mc-events/dawn-pulliam-fundraiser/
METHOD:PUBLISH
END:VEVENT
END:VCALENDAR